{"text_format":"1","workbook":"xlsx","n_sheets":3,"sheets":["Optiğe Cevap Hazırlama","A CEVAP"," B CEVAP"],"not_rendered":{"charts":0,"images":0,"macros":1,"external_links":0,"defined_names":2,"comments":0,"pivot_tables":0},"unopened":[],"bounds":{"document_bytes":16777216,"sheet_cells":100000,"rows_first":2000,"rows_last":500,"rows_between":2000,"halvings":0,"cell_chars":16384,"cell_head_chars":4096},"cells_cut":0,"cells_raw":0,"read":"whole","date_system":"1900"}

{"sheet":"Optiğe Cevap Hazırlama","index":0,"n_rows":62,"n_cols":77,"rows_kept":62,"cut":false,"hidden":false,"merged":[[45,24,45,32],[55,22,55,23],[57,22,57,23],[59,22,59,23],[61,22,61,23],[53,22,53,23],[47,22,47,23],[49,22,49,23],[51,22,51,23],[45,3,45,11],[55,1,55,2],[57,1,57,2],[59,1,59,2],[61,1,61,2],[53,1,53,2],[47,1,47,2],[49,1,49,2],[51,1,51,2],[0,1,0,2],[0,3,0,4],[0,5,0,6],[0,7,0,8],[0,32,0,33],[0,9,0,10],[0,11,0,12],[0,18,0,19],[0,20,0,21],[0,30,0,31],[0,22,0,23],[0,24,0,25],[0,13,0,14],[0,15,0,16],[0,26,0,27],[0,28,0,29]]}
[null,"SRC 1 A",null,"SRC 2 A",null,"SRC 3 A",null,"SRC 4 A",null,"ODY 3 A",null,"ÜDY 3 A",null,null,null,null,null,null,"SRC 1 B",null,"SRC 2  B",null,"SRC 3  B",null,"SRC 4 B",null,"ODY 3 B",null,"ÜDY 3 B",null,null,null,null,null,null,1,2,3,4,5,6,7,8,9,10,11,12,13,14,15,16,17,18,19,20,21,22,23,24,25,26,27,28,29,30,31,32,33,34,35,36,37,38,39,40]
[null,null,null,null,null,null,null,null,null,null,null,null,null,null,null,null,null,null,null,null,null,null,null,null,null,null,null,null,null,null,null,null,null,null,{"$f":"B1","v":"SRC 1 A"},{"$f":"$C$2","v":0},{"$f":"$C$3","v":0},{"$f":"$C$4","v":0},{"$f":"$C$5","v":0},{"$f":"$C$6","v":0},{"$f":"$C$7","v":0},{"$f":"$C$8","v":0},{"$f":"$C$9","v":0},{"$f":"$C$10","v":0},{"$f":"$C$11","v":0},{"$f":"$C$12","v":0},{"$f":"$C$13","v":0},{"$f":"$C$14","v":0},{"$f":"$C$15","v":0},{"$f":"$C$16","v":0},{"$f":"$C$17","v":0},{"$f":"$C$18","v":0},{"$f":"$C$19","v":0},{"$f":"$C$20","v":0},{"$f":"$C$21","v":0},{"$f":"$C$22","v":0},{"$f":"$C$23","v":0},{"$f":"$C$24","v":0},{"$f":"$C$25","v":0},{"$f":"$C$26","v":0},{"$f":"$C$27","v":0},{"$f":"$C$28","v":0},{"$f":"$C$29","v":0},{"$f":"$C$30","v":0},{"$f":"$C$31","v":0},{"$f":"$C$32","v":0},{"$f":"$C$33","v":0},{"$f":"$C$34","v":0},{"$f":"$C$35","v":0},{"$f":"$C$36","v":0},{"$f":"$C$37","v":0},{"$f":"$C$38","v":0},{"$f":"$C$39","v":0},{"$f":"$C$40","v":0},{"$f":"$C$41","v":0},{"$f":"AI2","v":"SRC 1 A"},{"$f":"CONCATENATE(AJ2,AK2,AL2,AM2,AN2,AO2,AP2,AQ2,AR2,AS2,AT2,AU2,AV2,AW2,AX2,AY2,AZ2,BA2,BB2,BC2,BD2,BE2,BF2,BG2,BH2,BI2,BJ2,BK2,BL2,BM2,BN2,BO2,BP2,BQ2,BR2,BS2,BT2,BU2,BV2,BW2)","v":"0000000000000000000000000000000000000000"}]
[null,null,null,null,null,null,null,null,null,null,null,null,null,null,null,null,null,null,null,null,null,null,null,null,null,null,null,null,null,null,null,null,null,null,{"$f":"D1","v":"SRC 2 A"},{"$f":"$E$2","v":0},{"$f":"$E$3","v":0},{"$f":"$E$4","v":0},{"$f":"$E$5","v":0},{"$f":"$E$6","v":0},{"$f":"$E$7","v":0},{"$f":"$E$8","v":0},{"$f":"$E$9","v":0},{"$f":"$E$10","v":0},{"$f":"$E$11","v":0},{"$f":"$E$12","v":0},{"$f":"$E$13","v":0},{"$f":"$E$14","v":0},{"$f":"$E$15","v":0},{"$f":"$E$16","v":0},{"$f":"$E$17","v":0},{"$f":"$E$18","v":0},{"$f":"$E$19","v":0},{"$f":"$E$20","v":0},{"$f":"$E$21","v":0},{"$f":"$E$22","v":0},{"$f":"$E$23","v":0},{"$f":"$E$24","v":0},{"$f":"$E$25","v":0},{"$f":"$E$26","v":0},{"$f":"$E$27","v":0},{"$f":"$E$28","v":0},{"$f":"$E$29","v":0},{"$f":"$E$30","v":0},{"$f":"$E$31","v":0},{"$f":"$E$32","v":0},{"$f":"$E$33","v":0},{"$f":"$E$34","v":0},{"$f":"$E$35","v":0},{"$f":"$E$36","v":0},{"$f":"$E$37","v":0},{"$f":"$E$38","v":0},{"$f":"$E$39","v":0},{"$f":"$E$40","v":0},{"$f":"$E$41","v":0},{"$f":"AI3","v":"SRC 2 A"},"0000000000000000000000000000000000000000"]
[null,null,null,null,null,null,null,null,null,null,null,null,null,null,null,null,null,null,null,null,null,null,null,null,null,null,null,null,null,null,null,null,null,null,{"$f":"F1","v":"SRC 3 A"},{"$f":"$G$2","v":0},{"$f":"$G$3","v":0},{"$f":"$G$4","v":0},{"$f":"$G$5","v":0},{"$f":"$G$6","v":0},{"$f":"$G$7","v":0},{"$f":"$G$8","v":0},{"$f":"$G$9","v":0},{"$f":"$G$10","v":0},{"$f":"$G$11","v":0},{"$f":"$G$12","v":0},{"$f":"$G$13","v":0},{"$f":"$G$14","v":0},{"$f":"$G$15","v":0},{"$f":"$G$16","v":0},{"$f":"$G$17","v":0},{"$f":"$G$18","v":0},{"$f":"$G$19","v":0},{"$f":"$G$20","v":0},{"$f":"$G$21","v":0},{"$f":"$G$22","v":0},{"$f":"$G$23","v":0},{"$f":"$G$24","v":0},{"$f":"$G$25","v":0},{"$f":"$G$26","v":0},{"$f":"$G$27","v":0},{"$f":"$G$28","v":0},{"$f":"$G$29","v":0},{"$f":"$G$30","v":0},{"$f":"$G$31","v":0},{"$f":"$G$32","v":0},{"$f":"$G$33","v":0},{"$f":"$G$34","v":0},{"$f":"$G$35","v":0},{"$f":"$G$36","v":0},{"$f":"$G$37","v":0},{"$f":"$G$38","v":0},{"$f":"$G$39","v":0},{"$f":"$G$40","v":0},{"$f":"$G$41","v":0},"SRC 3 A","0000000000000000000000000000000000000000"]
[null,null,null,null,null,null,null,null,null,null,null,null,null,null,null,null,null,null,null,null,null,null,null,null,null,null,null,null,null,null,null,null,null,null,{"$f":"H1","v":"SRC 4 A"},{"$f":"$I$2","v":0},{"$f":"$I$3","v":0},{"$f":"$I$4","v":0},{"$f":"$I$5","v":0},{"$f":"$I$6","v":0},{"$f":"$I$7","v":0},{"$f":"$I$8","v":0},{"$f":"$I$9","v":0},{"$f":"$I$10","v":0},{"$f":"$I$11","v":0},{"$f":"$I$12","v":0},{"$f":"$I$13","v":0},{"$f":"$I$14","v":0},{"$f":"$I$15","v":0},{"$f":"$I$16","v":0},{"$f":"$I$17","v":0},{"$f":"$I$18","v":0},{"$f":"$I$19","v":0},{"$f":"$I$20","v":0},{"$f":"$I$21","v":0},{"$f":"$I$22","v":0},{"$f":"$I$23","v":0},{"$f":"$I$24","v":0},{"$f":"$I$25","v":0},{"$f":"$I$26","v":0},{"$f":"$I$27","v":0},{"$f":"$I$28","v":0},{"$f":"$I$29","v":0},{"$f":"$I$30","v":0},{"$f":"$I$31","v":0},{"$f":"$I$32","v":0},{"$f":"$I$33","v":0},{"$f":"$I$34","v":0},{"$f":"$I$35","v":0},{"$f":"$I$36","v":0},{"$f":"$I$37","v":0},{"$f":"$I$38","v":0},{"$f":"$I$39","v":0},{"$f":"$I$40","v":0},{"$f":"$I$41","v":0},"SRC 4 A","0000000000000000000000000000000000000000"]
[null,null,null,null,null,null,null,null,null,null,null,null,null,null,null,null,null,null,null,null,null,null,null,null,null,null,null,null,null,null,null,null,null,null,{"$f":"J1","v":"ODY 3 A"},{"$f":"$K$2","v":0},{"$f":"$K$3","v":0},{"$f":"$K$4","v":0},{"$f":"$K$5","v":0},{"$f":"$K$6","v":0},{"$f":"$K$7","v":0},{"$f":"$K$8","v":0},{"$f":"$K$9","v":0},{"$f":"$K$10","v":0},{"$f":"$K$11","v":0},{"$f":"$K$12","v":0},{"$f":"$K$13","v":0},{"$f":"$K$14","v":0},{"$f":"$K$15","v":0},{"$f":"$K$16","v":0},{"$f":"$K$17","v":0},{"$f":"$K$18","v":0},{"$f":"$K$19","v":0},{"$f":"$K$20","v":0},{"$f":"$K$21","v":0},{"$f":"$K$22","v":0},{"$f":"$K$23","v":0},{"$f":"$K$24","v":0},{"$f":"$K$25","v":0},{"$f":"$K$26","v":0},{"$f":"$K$27","v":0},{"$f":"$K$28","v":0},{"$f":"$K$29","v":0},{"$f":"$K$30","v":0},{"$f":"$K$31","v":0},{"$f":"$K$32","v":0},{"$f":"$K$33","v":0},{"$f":"$K$34","v":0},{"$f":"$K$35","v":0},{"$f":"$K$36","v":0},{"$f":"$K$37","v":0},{"$f":"$K$38","v":0},{"$f":"$K$39","v":0},{"$f":"$K$40","v":0},{"$f":"$K$41","v":0},"ODY 3 A","0000000000000000000000000000000000000000"]
[null,null,null,null,null,null,null,null,null,null,null,null,null,null,null,null,null,null,null,null,null,null,null,null,null,null,null,null,null,null,null,null,null,null,{"$f":"L1","v":"ÜDY 3 A"},{"$f":"$M$2","v":0},{"$f":"$M$3","v":0},{"$f":"$M$4","v":0},{"$f":"$M$5","v":0},{"$f":"$M$6","v":0},{"$f":"$M$7","v":0},{"$f":"$M$8","v":0},{"$f":"$M$9","v":0},{"$f":"$M$10","v":0},{"$f":"$M$11","v":0},{"$f":"$M$12","v":0},{"$f":"$M$13","v":0},{"$f":"$M$14","v":0},{"$f":"$M$15","v":0},{"$f":"$M$16","v":0},{"$f":"$M$17","v":0},{"$f":"$M$18","v":0},{"$f":"$M$19","v":0},{"$f":"$M$20","v":0},{"$f":"$M$21","v":0},{"$f":"$M$22","v":0},{"$f":"$M$23","v":0},{"$f":"$M$24","v":0},{"$f":"$M$25","v":0},{"$f":"$M$26","v":0},{"$f":"$M$27","v":0},{"$f":"$M$28","v":0},{"$f":"$M$29","v":0},{"$f":"$M$30","v":0},{"$f":"$M$31","v":0},{"$f":"$M$32","v":0},{"$f":"$M$33","v":0},{"$f":"$M$34","v":0},{"$f":"$M$35","v":0},{"$f":"$M$36","v":0},{"$f":"$M$37","v":0},{"$f":"$M$38","v":0},{"$f":"$M$39","v":0},{"$f":"$M$40","v":0},{"$f":"$M$41","v":0},"ÜDY 3 A","0000000000000000000000000000000000000000"]
[null,null,null,null,null,null,null,null,null,null,null,null,null,null,null,null,null,null,null,null,null,null,null,null,null,null,null,null,null,null,null,null,null,null,{"$f":"N1","v":0},{"$f":"$O$2","v":0},{"$f":"$O$3","v":0},{"$f":"$O$4","v":0},{"$f":"$O$5","v":0},{"$f":"$O$6","v":0},{"$f":"$O$7","v":0},{"$f":"$O$8","v":0},{"$f":"$O$9","v":0},{"$f":"$O$10","v":0},{"$f":"$O$11","v":0},{"$f":"$O$12","v":0},{"$f":"$O$13","v":0},{"$f":"$O$14","v":0},{"$f":"$O$15","v":0},{"$f":"$O$16","v":0},{"$f":"$O$17","v":0},{"$f":"$O$18","v":0},{"$f":"$O$19","v":0},{"$f":"$O$20","v":0},{"$f":"$O$21","v":0},{"$f":"$O$22","v":0},{"$f":"$O$23","v":0},{"$f":"$O$24","v":0},{"$f":"$O$25","v":0},{"$f":"$O$26","v":0},{"$f":"$O$27","v":0},{"$f":"$O$28","v":0},{"$f":"$O$29","v":0},{"$f":"$O$30","v":0},{"$f":"$O$31","v":0},{"$f":"$O$32","v":0},{"$f":"$O$33","v":0},{"$f":"$O$34","v":0},{"$f":"$O$35","v":0},{"$f":"$O$36","v":0},{"$f":"$O$37","v":0},{"$f":"$O$38","v":0},{"$f":"$O$39","v":0},{"$f":"$O$40","v":0},{"$f":"$O$41","v":0},0,"0000000000000000000000000000000000000000"]
[null,null,null,null,null,null,null,null,null,null,null,null,null,null,null,null,null,null,null,null,null,null,null,null,null,null,null,null,null,null,null,null,null,null,{"$f":"P1","v":0},{"$f":"$Q$2","v":0},{"$f":"$Q$3","v":0},{"$f":"$Q$4","v":0},{"$f":"$Q$5","v":0},{"$f":"$Q$6","v":0},{"$f":"$Q$7","v":0},{"$f":"$Q$8","v":0},{"$f":"$Q$9","v":0},{"$f":"$Q$10","v":0},{"$f":"$Q$11","v":0},{"$f":"$Q$12","v":0},{"$f":"$Q$13","v":0},{"$f":"$Q$14","v":0},{"$f":"$Q$15","v":0},{"$f":"$Q$16","v":0},{"$f":"$Q$17","v":0},{"$f":"$Q$18","v":0},{"$f":"$Q$19","v":0},{"$f":"$Q$20","v":0},{"$f":"$Q$21","v":0},{"$f":"$Q$22","v":0},{"$f":"$Q$23","v":0},{"$f":"$Q$24","v":0},{"$f":"$Q$25","v":0},{"$f":"$Q$26","v":0},{"$f":"$Q$27","v":0},{"$f":"$Q$28","v":0},{"$f":"$Q$29","v":0},{"$f":"$Q$30","v":0},{"$f":"$Q$31","v":0},{"$f":"$Q$32","v":0},{"$f":"$Q$33","v":0},{"$f":"$Q$34","v":0},{"$f":"$Q$35","v":0},{"$f":"$Q$36","v":0},{"$f":"$Q$37","v":0},{"$f":"$Q$38","v":0},{"$f":"$Q$39","v":0},{"$f":"$Q$40","v":0},{"$f":"$Q$41","v":0},0,"0000000000000000000000000000000000000000"]
[]
[null,null,null,null,null,null,null,null,null,null,null,null,null,null,null,null,null,null,null,null,null,null,null,null,null,null,null,null,null,null,null,null,null,null,{"$f":"S1","v":"SRC 1 B"},{"$f":"$T$2","v":0},{"$f":"$T$3","v":0},{"$f":"$T$4","v":0},{"$f":"$T$5","v":0},{"$f":"$T$6","v":0},{"$f":"$T$7","v":0},{"$f":"$T$8","v":0},{"$f":"$T$9","v":0},{"$f":"$T$10","v":0},{"$f":"$T$11","v":0},{"$f":"$T$12","v":0},{"$f":"$T$13","v":0},{"$f":"$T$14","v":0},{"$f":"$T$15","v":0},{"$f":"$T$16","v":0},{"$f":"$T$17","v":0},{"$f":"$T$18","v":0},{"$f":"$T$19","v":0},{"$f":"$T$20","v":0},{"$f":"$T$21","v":0},{"$f":"$T$22","v":0},{"$f":"$T$23","v":0},{"$f":"$T$24","v":0},{"$f":"$T$25","v":0},{"$f":"$T$26","v":0},{"$f":"$T$27","v":0},{"$f":"$T$28","v":0},{"$f":"$T$29","v":0},{"$f":"$T$30","v":0},{"$f":"$T$31","v":0},{"$f":"$T$32","v":0},{"$f":"$T$33","v":0},{"$f":"$T$34","v":0},{"$f":"$T$35","v":0},{"$f":"$T$36","v":0},{"$f":"$T$37","v":0},{"$f":"$T$38","v":0},{"$f":"$T$39","v":0},{"$f":"$T$40","v":0},{"$f":"$T$41","v":0},"SRC 1 B",{"$f":"CONCATENATE(AJ11,AK11,AL11,AM11,AN11,AO11,AP11,AQ11,AR11,AS11,AT11,AU11,AV11,AW11,AX11,AY11,AZ11,BA11,BB11,BC11,BD11,BE11,BF11,BG11,BH11,BI11,BJ11,BK11,BL11,BM11,BN11,BO11,BP11,BQ11,BR11,BS11,BT11,BU11,BV11,BW11)","v":"0000000000000000000000000000000000000000"}]
[null,null,null,null,null,null,null,null,null,null,null,null,null,null,null,null,null,null,null,null,null,null,null,null,null,null,null,null,null,null,null,null,null,null,{"$f":"U1","v":"SRC 2  B"},{"$f":"$V$2","v":0},{"$f":"$V$3","v":0},{"$f":"$V$4","v":0},{"$f":"$V$5","v":0},{"$f":"$V$6","v":0},{"$f":"$V$7","v":0},{"$f":"$V$8","v":0},{"$f":"$V$9","v":0},{"$f":"$V$10","v":0},{"$f":"$V$11","v":0},{"$f":"$V$12","v":0},{"$f":"$V$13","v":0},{"$f":"$V$14","v":0},{"$f":"$V$15","v":0},{"$f":"$V$16","v":0},{"$f":"$V$17","v":0},{"$f":"$V$18","v":0},{"$f":"$V$19","v":0},{"$f":"$V$20","v":0},{"$f":"$V$21","v":0},{"$f":"$V$22","v":0},{"$f":"$V$23","v":0},{"$f":"$V$24","v":0},{"$f":"$V$25","v":0},{"$f":"$V$26","v":0},{"$f":"$V$27","v":0},{"$f":"$V$28","v":0},{"$f":"$V$29","v":0},{"$f":"$V$30","v":0},{"$f":"$V$31","v":0},{"$f":"$V$32","v":0},{"$f":"$V$33","v":0},{"$f":"$V$34","v":0},{"$f":"$V$35","v":0},{"$f":"$V$36","v":0},{"$f":"$V$37","v":0},{"$f":"$V$38","v":0},{"$f":"$V$39","v":0},{"$f":"$V$40","v":0},{"$f":"$V$41","v":0},"SRC 2  B","0000000000000000000000000000000000000000"]
[null,null,null,null,null,null,null,null,null,null,null,null,null,null,null,null,null,null,null,null,null,null,null,null,null,null,null,null,null,null,null,null,null,null,{"$f":"W1","v":"SRC 3  B"},{"$f":"$X$2","v":0},{"$f":"$X$3","v":0},{"$f":"$X$4","v":0},{"$f":"$X$5","v":0},{"$f":"$X$6","v":0},{"$f":"$X$7","v":0},{"$f":"$X$8","v":0},{"$f":"$X$9","v":0},{"$f":"$X$10","v":0},{"$f":"$X$11","v":0},{"$f":"$X$12","v":0},{"$f":"$X$13","v":0},{"$f":"$X$14","v":0},{"$f":"$X$15","v":0},{"$f":"$X$16","v":0},{"$f":"$X$17","v":0},{"$f":"$X$18","v":0},{"$f":"$X$19","v":0},{"$f":"$X$20","v":0},{"$f":"$X$21","v":0},{"$f":"$X$22","v":0},{"$f":"$X$23","v":0},{"$f":"$X$24","v":0},{"$f":"$X$25","v":0},{"$f":"$X$26","v":0},{"$f":"$X$27","v":0},{"$f":"$X$28","v":0},{"$f":"$X$29","v":0},{"$f":"$X$30","v":0},{"$f":"$X$31","v":0},{"$f":"$X$32","v":0},{"$f":"$X$33","v":0},{"$f":"$X$34","v":0},{"$f":"$X$35","v":0},{"$f":"$X$36","v":0},{"$f":"$X$37","v":0},{"$f":"$X$38","v":0},{"$f":"$X$39","v":0},{"$f":"$X$40","v":0},{"$f":"$X$41","v":0},"SRC 3  B","0000000000000000000000000000000000000000"]
[null,null,null,null,null,null,null,null,null,null,null,null,null,null,null,null,null,null,null,null,null,null,null,null,null,null,null,null,null,null,null,null,null,null,{"$f":"Y1","v":"SRC 4 B"},{"$f":"$Z$2","v":0},{"$f":"$Z$3","v":0},{"$f":"$Z$4","v":0},{"$f":"$Z$5","v":0},{"$f":"$Z$6","v":0},{"$f":"$Z$7","v":0},{"$f":"$Z$8","v":0},{"$f":"$Z$9","v":0},{"$f":"$Z$10","v":0},{"$f":"$Z$11","v":0},{"$f":"$Z$12","v":0},{"$f":"$Z$13","v":0},{"$f":"$Z$14","v":0},{"$f":"$Z$15","v":0},{"$f":"$Z$16","v":0},{"$f":"$Z$17","v":0},{"$f":"$Z$18","v":0},{"$f":"$Z$19","v":0},{"$f":"$Z$20","v":0},{"$f":"$Z$21","v":0},{"$f":"$Z$22","v":0},{"$f":"$Z$23","v":0},{"$f":"$Z$24","v":0},{"$f":"$Z$25","v":0},{"$f":"$Z$26","v":0},{"$f":"$Z$27","v":0},{"$f":"$Z$28","v":0},{"$f":"$Z$29","v":0},{"$f":"$Z$30","v":0},{"$f":"$Z$31","v":0},{"$f":"$Z$32","v":0},{"$f":"$Z$33","v":0},{"$f":"$Z$34","v":0},{"$f":"$Z$35","v":0},{"$f":"$Z$36","v":0},{"$f":"$Z$37","v":0},{"$f":"$Z$38","v":0},{"$f":"$Z$39","v":0},{"$f":"$Z$40","v":0},{"$f":"$Z$41","v":0},"SRC 4 B","0000000000000000000000000000000000000000"]
[null,null,null,null,null,null,null,null,null,null,null,null,null,null,null,null,null,null,null,null,null,null,null,null,null,null,null,null,null,null,null,null,null,null,{"$f":"AA1","v":"ODY 3 B"},{"$f":"$AB$2","v":0},{"$f":"$AB$3","v":0},{"$f":"$AB$4","v":0},{"$f":"$AB$5","v":0},{"$f":"$AB$6","v":0},{"$f":"$AB$7","v":0},{"$f":"$AB$8","v":0},{"$f":"$AB$9","v":0},{"$f":"$AB$10","v":0},{"$f":"$AB$11","v":0},{"$f":"$AB$12","v":0},{"$f":"$AB$13","v":0},{"$f":"$AB$14","v":0},{"$f":"$AB$15","v":0},{"$f":"$AB$16","v":0},{"$f":"$AB$17","v":0},{"$f":"$AB$18","v":0},{"$f":"$AB$19","v":0},{"$f":"$AB$20","v":0},{"$f":"$AB$21","v":0},{"$f":"$AB$22","v":0},{"$f":"$AB$23","v":0},{"$f":"$AB$24","v":0},{"$f":"$AB$25","v":0},{"$f":"$AB$26","v":0},{"$f":"$AB$27","v":0},{"$f":"$AB$28","v":0},{"$f":"$AB$29","v":0},{"$f":"$AB$30","v":0},{"$f":"$AB$31","v":0},{"$f":"$AB$32","v":0},{"$f":"$AB$33","v":0},{"$f":"$AB$34","v":0},{"$f":"$AB$35","v":0},{"$f":"$AB$36","v":0},{"$f":"$AB$37","v":0},{"$f":"$AB$38","v":0},{"$f":"$AB$39","v":0},{"$f":"$AB$40","v":0},{"$f":"$AB$41","v":0},"ODY 3 B","0000000000000000000000000000000000000000"]
[null,null,null,null,null,null,null,null,null,null,null,null,null,null,null,null,null,null,null,null,null,null,null,null,null,null,null,null,null,null,null,null,null,null,{"$f":"AC1","v":"ÜDY 3 B"},{"$f":"$AD$2","v":0},{"$f":"$AD$3","v":0},{"$f":"$AD$4","v":0},{"$f":"$AD$5","v":0},{"$f":"$AD$6","v":0},{"$f":"$AD$7","v":0},{"$f":"$AD$8","v":0},{"$f":"$AD$9","v":0},{"$f":"$AD$10","v":0},{"$f":"$AD$11","v":0},{"$f":"$AD$12","v":0},{"$f":"$AD$13","v":0},{"$f":"$AD$14","v":0},{"$f":"$AD$15","v":0},{"$f":"$AD$16","v":0},{"$f":"$AD$17","v":0},{"$f":"$AD$18","v":0},{"$f":"$AD$19","v":0},{"$f":"$AD$20","v":0},{"$f":"$AD$21","v":0},{"$f":"$AD$22","v":0},{"$f":"$AD$23","v":0},{"$f":"$AD$24","v":0},{"$f":"$AD$25","v":0},{"$f":"$AD$26","v":0},{"$f":"$AD$27","v":0},{"$f":"$AD$28","v":0},{"$f":"$AD$29","v":0},{"$f":"$AD$30","v":0},{"$f":"$AD$31","v":0},{"$f":"$AD$32","v":0},{"$f":"$AD$33","v":0},{"$f":"$AD$34","v":0},{"$f":"$AD$35","v":0},{"$f":"$AD$36","v":0},{"$f":"$AD$37","v":0},{"$f":"$AD$38","v":0},{"$f":"$AD$39","v":0},{"$f":"$AD$40","v":0},{"$f":"$AD$41","v":0},"ÜDY 3 B","0000000000000000000000000000000000000000"]
[null,null,null,null,null,null,null,null,null,null,null,null,null,null,null,null,null,null,null,null,null,null,null,null,null,null,null,null,null,null,null,null,null,null,{"$f":"AE1","v":0},{"$f":"$AF$2","v":0},{"$f":"$AF$3","v":0},{"$f":"$AF$4","v":0},{"$f":"$AF$5","v":0},{"$f":"$AF$6","v":0},{"$f":"$AF$7","v":0},{"$f":"$AF$8","v":0},{"$f":"$AF$9","v":0},{"$f":"$AF$10","v":0},{"$f":"$AF$11","v":0},{"$f":"$AF$12","v":0},{"$f":"$AF$13","v":0},{"$f":"$AF$14","v":0},{"$f":"$AF$15","v":0},{"$f":"$AF$16","v":0},{"$f":"$AF$17","v":0},{"$f":"$AF$18","v":0},{"$f":"$AF$19","v":0},{"$f":"$AF$20","v":0},{"$f":"$AF$21","v":0},{"$f":"$AF$22","v":0},{"$f":"$AF$23","v":0},{"$f":"$AF$24","v":0},{"$f":"$AF$25","v":0},{"$f":"$AF$26","v":0},{"$f":"$AF$27","v":0},{"$f":"$AF$28","v":0},{"$f":"$AF$29","v":0},{"$f":"$AF$30","v":0},{"$f":"$AF$31","v":0},{"$f":"$AF$32","v":0},{"$f":"$AF$33","v":0},{"$f":"$AF$34","v":0},{"$f":"$AF$35","v":0},{"$f":"$AF$36","v":0},{"$f":"$AF$37","v":0},{"$f":"$AF$38","v":0},{"$f":"$AF$39","v":0},{"$f":"$AF$40","v":0},{"$f":"$AF$41","v":0},0,"0000000000000000000000000000000000000000"]
[null,null,null,null,null,null,null,null,null,null,null,null,null,null,null,null,null,null,null,null,null,null,null,null,null,null,null,null,null,null,null,null,null,null,{"$f":"AG1","v":0},{"$f":"$AH$2","v":0},{"$f":"$AH$3","v":0},{"$f":"$AH$4","v":0},{"$f":"$AH$5","v":0},{"$f":"$AH$6","v":0},{"$f":"$AH$7","v":0},{"$f":"$AH$8","v":0},{"$f":"$AH$9","v":0},{"$f":"$AH$10","v":0},{"$f":"$AH$11","v":0},{"$f":"$AH$12","v":0},{"$f":"$AH$13","v":0},{"$f":"$AH$14","v":0},{"$f":"$AH$15","v":0},{"$f":"$AH$16","v":0},{"$f":"$AH$17","v":0},{"$f":"$AH$18","v":0},{"$f":"$AH$19","v":0},{"$f":"$AH$20","v":0},{"$f":"$AH$21","v":0},{"$f":"$AH$22","v":0},{"$f":"$AH$23","v":0},{"$f":"$AH$24","v":0},{"$f":"$AH$25","v":0},{"$f":"$AH$26","v":0},{"$f":"$AH$27","v":0},{"$f":"$AH$28","v":0},{"$f":"$AH$29","v":0},{"$f":"$AH$30","v":0},{"$f":"$AH$31","v":0},{"$f":"$AH$32","v":0},{"$f":"$AH$33","v":0},{"$f":"$AH$34","v":0},{"$f":"$AH$35","v":0},{"$f":"$AH$36","v":0},{"$f":"$AH$37","v":0},{"$f":"$AH$38","v":0},{"$f":"$AH$39","v":0},{"$f":"$AH$40","v":0},{"$f":"$AH$41","v":0},0,"0000000000000000000000000000000000000000"]
[]
[]
[null,null,null,null,null,null,null,null,null,null,null,null,null,null,null,null,null,null,null,null,null,null,null,null,null,null,null,null,null,null,null,null,null,null,null,null,null,null,null,null,null,null,null,null,null,null,null,null,null,null,null,null,null,null,null,null,null,null,null,null,null,null,null,null,null,null,null,null,null,null,null,null,null,null,null,null,{"$f":"CONCATENATE(AJ20,AK20,AL20,AM20,AN20,AO20,AP20,AQ20,AR20,AS20,AT20,AU20,AV20,AW20,AX20,AY20,AZ20,BA20,BB20,BC20,BD20,BE20,BF20,BG20,BH20,BI20,BJ20,BK20,BL20,BM20,BN20,BO20,BP20,BQ20,BR20,BS20,BT20,BU20,BV20,BW20)","v":""}]
[]
[null,null,null,null,null,null,null,null,null,null,null,null,null,null,null,null,null,null,null,null,null,null,null,null,null,null,null,null,null,null,null,null,null,null,null,null,null,null,null,null,null,null,null,null,null,null,null,null,null,null,null,null,null,null,null,null,null,null,null,null,null,null,null,null,null,null,null,null,null,null,null,null,null,null,null,null,{"$f":"CONCATENATE(AJ22,AK22,AL22,AM22,AN22,AO22,AP22,AQ22,AR22,AS22,AT22,AU22,AV22,AW22,AX22,AY22,AZ22,BA22,BB22,BC22,BD22,BE22,BF22,BG22,BH22,BI22,BJ22,BK22,BL22,BM22,BN22,BO22,BP22,BQ22,BR22,BS22,BT22,BU22,BV22,BW22)","v":""}]
[]
[null,null,null,null,null,null,null,null,null,null,null,null,null,null,null,null,null,null,null,null,null,null,null,null,null,null,null,null,null,null,null,null,null,null,null,null,null,null,null,null,null,null,null,null,null,null,null,null,null,null,null,null,null,null,null,null,null,null,null,null,null,null,null,null,null,null,null,null,null,null,null,null,null,null,null,null,{"$f":"CONCATENATE(AJ24,AK24,AL24,AM24,AN24,AO24,AP24,AQ24,AR24,AS24,AT24,AU24,AV24,AW24,AX24,AY24,AZ24,BA24,BB24,BC24,BD24,BE24,BF24,BG24,BH24,BI24,BJ24,BK24,BL24,BM24,BN24,BO24,BP24,BQ24,BR24,BS24,BT24,BU24,BV24,BW24)","v":""}]
[]
[null,null,null,null,null,null,null,null,null,null,null,null,null,null,null,null,null,null,null,null,null,null,null,null,null,null,null,null,null,null,null,null,null,null,null,null,null,null,null,null,null,null,null,null,null,null,null,null,null,null,null,null,null,null,null,null,null,null,null,null,null,null,null,null,null,null,null,null,null,null,null,null,null,null,null,null,{"$f":"CONCATENATE(AJ26,AK26,AL26,AM26,AN26,AO26,AP26,AQ26,AR26,AS26,AT26,AU26,AV26,AW26,AX26,AY26,AZ26,BA26,BB26,BC26,BD26,BE26,BF26,BG26,BH26,BI26,BJ26,BK26,BL26,BM26,BN26,BO26,BP26,BQ26,BR26,BS26,BT26,BU26,BV26,BW26)","v":""}]
[]
[]
[]
[]
[]
[]
[]
[]
[]
[]
[]
[]
[]
[]
[]
[]
[]
[]
[null,null,null,"A KİTAPÇIK CEVAPLARI",null,null,null,null,null,null,null,null,null,null,null,null,null,null,null,null,null,null,null,null,"B KİTAPÇIK CEVAPLARI"]
[]
[null,{"$f":"B1","v":"SRC 1 A"},null,null,null,null,null,null,null,null,null,null,null,null,null,null,null,null,null,null,null,null,{"$f":"S1","v":"SRC 1 B"}]
[]
[null,{"$f":"D1","v":"SRC 2 A"},null,null,null,null,null,null,null,null,null,null,null,null,null,null,null,null,null,null,null,null,{"$f":"U1","v":"SRC 2  B"}]
[]
[null,{"$f":"F1","v":"SRC 3 A"},null,null,null,null,null,null,null,null,null,null,null,null,null,null,null,null,null,null,null,null,{"$f":"W1","v":"SRC 3  B"}]
[]
[null,{"$f":"H1","v":"SRC 4 A"},null,null,null,null,null,null,null,null,null,null,null,null,null,null,null,null,null,null,null,null,{"$f":"Y1","v":"SRC 4 B"}]
[]
[null,{"$f":"J1","v":"ODY 3 A"},null,null,null,null,null,null,null,null,null,null,null,null,null,null,null,null,null,null,null,null,{"$f":"AA1","v":"ODY 3 B"}]
[]
[null,{"$f":"L1","v":"ÜDY 3 A"},null,null,null,null,null,null,null,null,null,null,null,null,null,null,null,null,null,null,null,null,{"$f":"AC1","v":"ÜDY 3 B"}]
[]
[null,{"$f":"N1","v":0},null,null,null,null,null,null,null,null,null,null,null,null,null,null,null,null,null,null,null,null,{"$f":"AE1","v":0}]
[]
[null,{"$f":"P1","v":0},null,null,null,null,null,null,null,null,null,null,null,null,null,null,null,null,null,null,null,null,{"$f":"AG1","v":0}]

{"sheet":"A CEVAP","index":1,"n_rows":1,"n_cols":15,"rows_kept":1,"cut":false,"hidden":false,"merged":[[0,12,0,13],[0,14,0,15],[0,0,0,1],[0,2,0,3],[0,4,0,5],[0,6,0,7],[0,8,0,9],[0,10,0,11]]}
[{"$f":"'Optiğe Cevap Hazırlama'!B1","v":"SRC 1 A"},null,{"$f":"'Optiğe Cevap Hazırlama'!D1","v":"SRC 2 A"},null,{"$f":"'Optiğe Cevap Hazırlama'!F1","v":"SRC 3 A"},null,{"$f":"'Optiğe Cevap Hazırlama'!H1","v":"SRC 4 A"},null,{"$f":"'Optiğe Cevap Hazırlama'!J1","v":"ODY 3 A"},null,{"$f":"'Optiğe Cevap Hazırlama'!L1","v":"ÜDY 3 A"},null,{"$f":"'Optiğe Cevap Hazırlama'!N1","v":0},null,{"$f":"'Optiğe Cevap Hazırlama'!P1","v":0}]

{"sheet":" B CEVAP","index":2,"n_rows":1,"n_cols":15,"rows_kept":1,"cut":false,"hidden":false,"merged":[[0,12,0,13],[0,14,0,15],[0,0,0,1],[0,2,0,3],[0,4,0,5],[0,6,0,7],[0,8,0,9],[0,10,0,11]]}
[{"$f":"'Optiğe Cevap Hazırlama'!S1","v":"SRC 1 B"},null,{"$f":"'Optiğe Cevap Hazırlama'!U1","v":"SRC 2  B"},null,{"$f":"'Optiğe Cevap Hazırlama'!W1","v":"SRC 3  B"},null,{"$f":"'Optiğe Cevap Hazırlama'!Y1","v":"SRC 4 B"},null,{"$f":"'Optiğe Cevap Hazırlama'!AA1","v":"ODY 3 B"},null,{"$f":"'Optiğe Cevap Hazırlama'!AC1","v":"ÜDY 3 B"},null,{"$f":"'Optiğe Cevap Hazırlama'!AE1","v":0},null,{"$f":"'Optiğe Cevap Hazırlama'!AG1","v":0}]